BEGIN:VCALENDAR
VERSION:2.0
PRODID:-//Alpinundoutdoor.de - ECPv6.15.17.1//NONSGML v1.0//EN
CALSCALE:GREGORIAN
METHOD:PUBLISH
X-WR-CALNAME:Alpinundoutdoor.de
X-ORIGINAL-URL:https://alpinundoutdoor.de
X-WR-CALDESC:Veranstaltungen für Alpinundoutdoor.de
REFRESH-INTERVAL;VALUE=DURATION:PT1H
X-Robots-Tag:noindex
X-PUBLISHED-TTL:PT1H
BEGIN:VTIMEZONE
TZID:Europe/Berlin
BEGIN:DAYLIGHT
TZOFFSETFROM:+0100
TZOFFSETTO:+0200
TZNAME:CEST
DTSTART:20200329T010000
END:DAYLIGHT
BEGIN:STANDARD
TZOFFSETFROM:+0200
TZOFFSETTO:+0100
TZNAME:CET
DTSTART:20201025T010000
END:STANDARD
BEGIN:DAYLIGHT
TZOFFSETFROM:+0100
TZOFFSETTO:+0200
TZNAME:CEST
DTSTART:20210328T010000
END:DAYLIGHT
BEGIN:STANDARD
TZOFFSETFROM:+0200
TZOFFSETTO:+0100
TZNAME:CET
DTSTART:20211031T010000
END:STANDARD
BEGIN:DAYLIGHT
TZOFFSETFROM:+0100
TZOFFSETTO:+0200
TZNAME:CEST
DTSTART:20220327T010000
END:DAYLIGHT
BEGIN:STANDARD
TZOFFSETFROM:+0200
TZOFFSETTO:+0100
TZNAME:CET
DTSTART:20221030T010000
END:STANDARD
END:VTIMEZONE
BEGIN:VEVENT
DTSTART;TZID=Europe/Berlin:20210918T090000
DTEND;TZID=Europe/Berlin:20210919T160000
DTSTAMP:20260425T010135
CREATED:20210408T084146Z
LAST-MODIFIED:20210616T150604Z
UID:53661-1631955600-1632067200@alpinundoutdoor.de
SUMMARY:SUP Wildwasserkurs für Einsteiger
DESCRIPTION:Iglu Abenteuer\n				\n				\n			\n				\n				\n			\n				\n				\n				\n				\n				\n				\n				\n				\n				\n				\n				\n				\n				\n				\n				\n				\n				\n				\n				\n				\n					\n				\n					\n								\n									\n										\n									\n								\n								\n							\n							Veranstaltung\n							\n						\n				\n			\n				\n			\n			\n				\n				\n				\n				\n			\n				\n				\n				\n				\n				\n				\n				\n				\n				\n				\n				Wildwasser SUP Kurs für Einsteiger\nAuf den Seen hast Du sicher schon häufig SUP Paddler entdeckt oder es sogar schon selbst ausprobiert. Im Wildwasser sind sie aufgrund der schwierigeren Bedingungen noch sehr selten anzutreffen. Daher bieten wir seit mehreren Jahren einen SUP Wildwasserkurs für Neugierige an. Er richtet sich sowohl an den fitnessorientierten Sportler\, der auf dem SUP Board ein perfektes gelenkschonendes Ganzkörperworkout absolvieret\, als auch an den Surfer\, der seine Fähigkeiten auch auf heimischen Gewässern trainieren will. \nDu profitierst in diesem Kurs besonders von unserer langjährigen Wildwasser- und Paddelerfahrung sowie der Kenntnis zahlreicher Flüsse. In unserem SUP Wildwasserkurs für Einsteiger erlernst Du zunächst die Basics der Paddeltechnik am See bzw. in einem ruhigen Gewässer bevor wir gemeinsam ins bewegte Wasser aufbrechen. Dort beschäftigen wir uns mit Strömungslehre und den nötigen Techniken für’s Wildwasser. Kehrwasserfahren\, Ankanten\, Ziehschläge und Rettungstechnik stehen auf dem Programm. Natürlich haben wir für Dich auch noch wichtige Tipps zur Ausrüstung sowie zu natur- und sozialverträglichem Verhalten am Fluss parat. \n\n\n\nIn unserem SUP Wildwasserkurs erlernst Du alles was Du brauchst\, um Dich sicher auf leichtem bis mittlerem Wildwasser (WW II+) zu bewegen. Die richtige Paddeltechnik\, Linienwahl\, Materialkunde und natürlich wie Du Flusswellen surfst. Zwei intensive Tage auf und im Wasser warten auf Dich! \nTeilnahme-Voraussetzungen: \nEin wenig Erfahrung auf dem SUP Board (https://alpinundoutdoor.de/tour/sup-kurs-fuer-einsteiger/ ) oder im Wildwasser solltest Du idealerweise mitbringen\, ist aber nicht zwingend notwendig. \n\n\n\n			\n			\n				\n				\n				\n				\n				\n				\n				\n				\n				\n				\n					\n					\n						18.09 - 19.09.2021\n						Wunschtermine gerne auf Anfrage\n					\n				\n			\n				\n				\n				\n				\n				\n					\n					\n						Ort: Schleching Tiroler Ache\n						Der Kursort kann je nach Wassertand und Witterung variieren\n					\n				\n			\n				\n				\n				\n				\n				\n					\n					\n						Teilnehmer: max. 6\n						Mindestanzahl: 3 \n					\n				\n			\n				\n				\n				\n				\n				\n					\n					\n						Preis: ab 200€\n						Der Preis beinhaltet Ausrüstung und Leihmaterial! \n					\n				\n			\n			\n				\n				\n				\n				\n			\n				\n				\n				\n				\n				\n				\n			\n				\n				\n				\n				\n				Buchungsanfrage\n				\n				\n				\n					\n						\n				\n				\n				\n				\n				Name\n				\n			 \n				\n				\n				\n				\n				Telefon\n				\n			 \n				\n				\n				\n				\n				E-Mail-Adresse\n				\n			 \n				\n				\n				\n				\n				Nachricht\n				\n			 \n				\n				\n				\n				\n				Datenschutz\n				\n					\n						Datenschutz\n						\n							\n							Ich akzeptiere die Datenschutzvereinbarung \n						\n					\n			 \n						\n						\n							\n			\n				\n					3 + 5 = \n				 \n			\n							Anfragen\n						\n						\n					\n				\n			\n			\n				\n				\n				\n				\n				\n				\n				\n					\n				\n			\n			\n				\n				\n				\n				\n				\n				\n				\n				\n				\n				\n				\n				\n					\n				\n				\n						 \n						\n					\n						 \n						\n					\n						 \n						\n					\n						 \n						\n					\n			\n				\n			\n			\n				\n				\n				\n				\n			\n				\n				\n			\n				\n				\n				\n				\n				\n				\n				\n				\n				\n				\n				\n				\n				\n				\n				\n				\n				\n				Noch nicht alle Fragen beantwortet? Ruf uns an oder schreib uns! \n			\n				\n				\n				\n				\n				\n					\n					\n						\n						 +49 (0)179 5228690 \n					\n				\n			\n				Kontakt
URL:https://alpinundoutdoor.de/event/sup-wildwasser-einsteiger-21-09-18/
CATEGORIES:Für Gruppen,SUP,Wildwasserkurs
ATTACH;FMTTYPE=image/jpeg:https://alpinundoutdoor.de/wp-content/uploads/2021/02/Stand-up-paddeln-SUP.jpg
END:VEVENT
END:VCALENDAR