BEGIN:VCALENDAR
VERSION:2.0
PRODID:-//Alpinundoutdoor.de - ECPv6.15.17.1//NONSGML v1.0//EN
CALSCALE:GREGORIAN
METHOD:PUBLISH
X-WR-CALNAME:Alpinundoutdoor.de
X-ORIGINAL-URL:https://alpinundoutdoor.de
X-WR-CALDESC:Veranstaltungen für Alpinundoutdoor.de
REFRESH-INTERVAL;VALUE=DURATION:PT1H
X-Robots-Tag:noindex
X-PUBLISHED-TTL:PT1H
BEGIN:VTIMEZONE
TZID:Europe/Berlin
BEGIN:DAYLIGHT
TZOFFSETFROM:+0100
TZOFFSETTO:+0200
TZNAME:CEST
DTSTART:20210328T010000
END:DAYLIGHT
BEGIN:STANDARD
TZOFFSETFROM:+0200
TZOFFSETTO:+0100
TZNAME:CET
DTSTART:20211031T010000
END:STANDARD
BEGIN:DAYLIGHT
TZOFFSETFROM:+0100
TZOFFSETTO:+0200
TZNAME:CEST
DTSTART:20220327T010000
END:DAYLIGHT
BEGIN:STANDARD
TZOFFSETFROM:+0200
TZOFFSETTO:+0100
TZNAME:CET
DTSTART:20221030T010000
END:STANDARD
BEGIN:DAYLIGHT
TZOFFSETFROM:+0100
TZOFFSETTO:+0200
TZNAME:CEST
DTSTART:20230326T010000
END:DAYLIGHT
BEGIN:STANDARD
TZOFFSETFROM:+0200
TZOFFSETTO:+0100
TZNAME:CET
DTSTART:20231029T010000
END:STANDARD
END:VTIMEZONE
BEGIN:VEVENT
DTSTART;VALUE=DATE:20220703
DTEND;VALUE=DATE:20220710
DTSTAMP:20260422T163629
CREATED:20210311T140601Z
LAST-MODIFIED:20220225T122858Z
UID:53585-1656806400-1657411199@alpinundoutdoor.de
SUMMARY:Mit dem Wasser tanzen
DESCRIPTION:Iglu Abenteuer\n				\n				\n			\n				\n				\n			\n				\n				\n				\n				\n				\n				\n				\n				\n				\n				\n				\n				\n				\n				\n				\n				\n				\n				\n				\n				\n					\n				\n					\n								\n									\n										\n									\n								\n								\n							\n							Veranstaltung\n							\n						\n				\n			\n				\n			\n			\n				\n				\n				\n				\n			\n				\n				\n				\n				\n				\n				\n				\n				\n				\n				\n				Mit dem Wasser tanzen\nAuf der Suche nach Flow und Spiritualität im Kajak-Wildwasser-Erleben. Ein Kurs für Einsteiger*innen.\nGrüne Wiesen\, smaragdgrünes Wasser\, Wellen\, Strudel und Walzen. Es gelingt. Die Linie ist perfekt erwischt. Mit unendlicher Freude und einem intensiven Gefühl von Lebendigkeit schwingen wir ein in die Komfortzone des nächsten Kehrwassers. Keine Gedanken mehr an die korrekte Paddeltechnik\, keine Zweifel\, kein Grübeln über Alltägliches. Ein Gefühl von Zeitlosigkeit\, Vollkommenheit und tiefstem Vertrauen stellt sich ein. Einen solchen Bewusstseinszustand beschreiben Mystiker und spirituelle Lehrer mit dem Begriff No-Mind und als Seinsqualität: Das Denken tritt bei Seite und überlässt dem SEIN den Raum. Sportler beschreiben diesen Zustand gerne als Flow. \n  \nKursinhalt\nWir meditierten jeden Morgen am Wasser\, mal am Fluss selbst\, mal an einem Bach\, mal in der Auskolkung eines ehemaligen Wasserfalls. Ganz nach Herman Hesses Siddhartha hat der Fluss für jeden etwas Besonderes zu sagen\, etwas\, das er noch nicht weiß\, das noch auf ihn wartet.\n			\n			\n				\n				\n				\n				\n				\n				\n				\n				\n				\n				\n					\n					\n						03.07. - 09.07.22\n						Wir starten gemeinsam um 16:00 Uhr. \nEnde am Sonntag\, 09. Juli 2022 gegen 11:00 Uhr.\n					\n				\n			\n				\n				\n				\n				\n				\n					\n					\n						Ort: Soča\n						Camp Lazar in Kobarid an der wunderschönen Soča in Slowenien\, direkt am Fluss. \n					\n				\n			\n				\n				\n				\n				\n				\n					\n					\n						Teilnehmer: max. 8\n						Mindestanzahl: 3\n					\n				\n			\n				\n				\n				\n				\n				\n					\n					\n						Preis: ab 650€\n						Inkl. Leihmaterial (mit eigenem Material 450€) \nAlle Preise zzgl. eigener Anreise\, Befahrungspermit für die Soča\, Verpflegung\, und Unterkunft vor Ort. \n					\n				\n			\n			\n				\n				\n				\n				\n			\n				\n				\n				\n				\n				\n				\n				\n				\n				\n				\n				Wir praktizierten regelmäßig nach dem Frühstück unsere kleine TaiChi-Übung. Wir tauchen mit allen Sinnen ein in die Natur. Wir nehmen uns Zeit für Erfahrungsaustausch. Wir nehmen Ruhe und Freude mit auf den Fluss: Ein Gefühl von Zeitlosigkeit\, eine Ahnung von Vollkommenheit und tiefstem Vertrauen stellt sich wieder und wieder ein…  \nWir starten auf ruhigen\, fast stehenden Stellen des Flusses und lernen erst mal den Fluss\, das Boot\, unser Selbst und unser Bootsgefühls kennen. Tag für Tag wird sich unser Vertrauen vertiefen. Die Übungen auf dem Wasser sind eingebettet in Wahrnehmungsübungen an Land im Kontakt mit der Natur. \nEin Video\, das schwerpunktmäßig die spirituellen Erfahrungen des Kurses beschreibt und insbesondere auch die Inhalte der morgendlichen Meditationen in dieser verzaubernden Flusslandschaft nachempfinden lassen möchte\, ist hier zu finden: Video bei Youtube. \n			\n			\n				\n				\n				\n				\n			\n				\n				\n				\n				\n				\n				\n				\n				\n				\n				\n				\n				\n				\n					\n				\n				\n						 \n						\n					\n						 \n						\n					\n			\n				\n			\n			\n				\n				\n				\n				\n			\n				\n				\n				\n				\n				\n				\n				\n				\n				\n				\n				Tagesablauf (exemplarisch)\n\n08:00  Meditation am Wasser (20 Minuten)\, inhaltlich abgestimmt auf die Vorerfahrung der Teilnehmenden und das Vorhaben des Tages\n08:45 Frühstück\n10:00 Eine kleine TaiChi-Form im Freien: Harmonie der fünf Elemente und Nachklänge zu den Erfahrungen vom Vortag\n10:15 -11:00 Sharing. Vertiefung der Erfahrungen. Wir arbeiten die spirituellen Aspekte der Erfahrungen heraus.\n11:15 Aufbruch zum Fluss\n16:00 Zurück auf dem Zeltplatz\n16:00 – 18:00 freie Zeit\n18:00 Nachklänge zum Tag. Sharing. Vertiefung der Erfahrungen. Wir arbeiten die spirituellen Aspekte der Erfahrungen heraus und schließen mit einer Meditation.\n19:00/20:00  Abendessen. Programmschluss\, es sei denn\, es sind besondere Vorhaben angesagt wie zum Beispiel Lagerfeuer oder Erkundung des nächtlichen Waldes.\n\n			\n			\n				\n				\n				\n				\n				\n				\n				\n				\n				\n				Teilnahme-Voraussetzung\nAllgemeine körperliche Fitness. Du solltest schwimmen können und nicht all zu wasserscheu sein. Vorerfahrungen im Kajakfahren sind nicht erforderlich. Meditationserfahrung wird ebenfalls nicht vorausgesetzt. \nLust auf eine wunderschöne Alpenflusslandschaft\, auf Selbsterfahrung in einer Kleingruppe und auf Naturerlebnisse der besonderen Art im spritzigen Wasser solltest du mitbringen. \nFalls Du Dir unsicher bist\, ob der Kurs das Richtige für Dich ist\, rufe uns gerne an und lass es uns gemeinsam im persönlichen Gespräch herausfinden. \nTelefon Gregor: +49 (0) 175 461 93 50 \n			\n			\n				\n				\n				\n				\n			\n				\n				\n				\n				\n				\n				\n			\n				\n				\n				\n				\n				Buchungsanfrage\n				\n				\n				\n					\n						\n				\n				\n				\n				\n				Name\n				\n			 \n				\n				\n				\n				\n				Telefon\n				\n			 \n				\n				\n				\n				\n				E-Mail-Adresse\n				\n			 \n				\n				\n				\n				\n				Nachricht\n				\n			 \n				\n				\n				\n				\n				Datenschutz\n				\n					\n						Datenschutz\n						\n							\n							Ich akzeptiere die Datenschutzvereinbarung \n						\n					\n			 \n						\n						\n							\n			\n				\n					3 + 1 = \n				 \n			\n							Anfragen\n						\n						\n					\n				\n			\n			\n				\n				\n				\n				\n				\n				\n				\n					\n				\n			\n			\n				\n				\n				\n				\n				\n				\n				\n				\n				\n				\n				\n				\n				\n				\n				Anreise\n				Die Anreise geschieht selbstständig. Gerne unterstützen wir bei der Bildung von Mitfahrgelegenheiten. Villach und Undine sind mit dem Zug oder Fernbus gut zu erreichen\, von wo wir Dich abholen könnten. Nach Villach fährt auch der Autozug von Hamburg aus über München. Falls Du eine Abholung wünschst\, nimm bitte frühzeitig Kontakt mit uns auf.  \nAlternativ kannst du mit dem Zug in die slowenische Hauptstadt Ljubljana fahren und von dort mit dem Bus über Tolmin nach Bovec. \n			\n				\n				\n				\n				\n				Verpflegung\n				Halbpension mit Frühstücksbuffet und Abendessen im Camp Lazar  (vegetarisch/vegan möglich) für 19\,00 € p. P./Tag auf Wunsch zu buchbar. \n			\n				\n				\n				\n				\n				Leihmaterial\n				Hochwertiges Leihmaterial (Boot\, Paddel\, Paddelbekleidung sowie Schwimmweste und Helm) sind im Kurspreis bereits enthalten und werden von alpIN&OUTdoor gestellt. Solltest Du eigenes Material mitbringen\, reduziert sich der Kurspreis entsprechend. \n			\n				\n				\n				\n				\n				Kursleitung\n				Gregor Baumert \nist seit seiner Kindheit fasziniert von Wasser\, egal ob fließt oder steht\, badend\, angelnd\, als Wasserbauer beim Wasser und Schifffahrtsamt oder am Ufer sitzend. Später dann unterwegs im wilden Wasser der Alpen. Zu Beginn des Öfteren neben dem Boot schwimmend\, seit den letzten Jahren im Boot unterrichtend zwischen München und Slowenien als Kajakguide für alpin & outdoor. \nAnsonsten wandernd zwischen Natur\, moderner digitaler Welt und Spiritualität. In der Natur als Isar-Ranger in den Isarauen nördlich von Bad Tölz oder als Bildungsreferent für Umweltbildung engagiert. Im Digitalen als freiberuflicher Medientechniker und Testingenieur tätig. Zum Spirituellen durch Yoga\, MBSR\, Gestalttherapie und Wildnispädagogik gefunden und seitdem freudvoll entdeckend. Seit kurzem gibt er in eigenen Seminaren weiter was er bei seinen Streifzügen zwischen Natur\, moderner Welt und Spiritualität entdeckt hat. Mehr Infos zu Gregor findest du auf seiner Homepage unter http://www.gbaumert.de \n  \nVolker Schmidt \nleitet die Werkstatt Spiritualität in Hamburg. Er ist spiritueller Coach\, freiberuflicher Theologe und Erwachsenenbildner mit Schwerpunkt Meditation\, Energie-Mediziner\, Prana-Heiler\, Intellektueller\, Seher und Fühler (und Revoluzzer). Er verbindet die westliche und fernöstliche Weltanschauung durch seine interkulturellen Erfahrungen auf den Philippinen. In seiner Freizeit fährt er Kajak\, tanzt Tango\, schläft gerne und braut grüne Smoothies\, trinkt gerne ein Glas Wein zu Käse und Brot. \nSpiritualität bedeutet für ihn: immer im Fluss\, immer im Werden\, niemals fertig SEIN. Die Werkstatt Spiritualität bietet Raum für Erkundungs- und Erfahrungsfelder\, um höhere Ebenen des Bewusstseins zu erlangen\, sich mit der größeren Wirklichkeit zu verbinden und sich zunehmend in den Seins-Qualitäten Heiterkeit\, Gelassenheit\, Liebe\, Eins-Sein\, innerer und äußerer Friede zu verankern. http://www.spiritu.de \n			\n			\n			\n				\n				\n				\n				\n			\n				\n				\n			\n				\n				\n				\n				\n				\n				\n				\n				\n				\n				\n				\n				\n				\n				\n				\n				\n				\n				Noch nicht alle Fragen beantwortet? Ruf uns an oder schreib uns! \n			\n				\n				\n				\n				\n				\n					\n					\n						\n						 +49 (0)179 5228690\n					\n				\n			\n				Kontakt
URL:https://alpinundoutdoor.de/event/mit-dem-wasser-tanzen/
LOCATION:Soca
CATEGORIES:Kajak,Wildwasserkurs
ATTACH;FMTTYPE=image/jpeg:https://alpinundoutdoor.de/wp-content/uploads/2021/02/2021-alpin-und-outdoor-wildwasser-kajak-soca-slowenien-paddelschule-mit-dem-wasser-tanzen-morgenmeditation-meditation-morgenstimmung-fluss-siddharta-flow-natur-flusslandschaft-nebel-spiritualitaet.jpg
END:VEVENT
END:VCALENDAR