BEGIN:VCALENDAR
VERSION:2.0
PRODID:-//Alpinundoutdoor.de - ECPv6.15.17.1//NONSGML v1.0//EN
CALSCALE:GREGORIAN
METHOD:PUBLISH
X-WR-CALNAME:Alpinundoutdoor.de
X-ORIGINAL-URL:https://alpinundoutdoor.de
X-WR-CALDESC:Veranstaltungen für Alpinundoutdoor.de
REFRESH-INTERVAL;VALUE=DURATION:PT1H
X-Robots-Tag:noindex
X-PUBLISHED-TTL:PT1H
BEGIN:VTIMEZONE
TZID:Europe/Berlin
BEGIN:DAYLIGHT
TZOFFSETFROM:+0100
TZOFFSETTO:+0200
TZNAME:CEST
DTSTART:20200329T010000
END:DAYLIGHT
BEGIN:STANDARD
TZOFFSETFROM:+0200
TZOFFSETTO:+0100
TZNAME:CET
DTSTART:20201025T010000
END:STANDARD
BEGIN:DAYLIGHT
TZOFFSETFROM:+0100
TZOFFSETTO:+0200
TZNAME:CEST
DTSTART:20210328T010000
END:DAYLIGHT
BEGIN:STANDARD
TZOFFSETFROM:+0200
TZOFFSETTO:+0100
TZNAME:CET
DTSTART:20211031T010000
END:STANDARD
BEGIN:DAYLIGHT
TZOFFSETFROM:+0100
TZOFFSETTO:+0200
TZNAME:CEST
DTSTART:20220327T010000
END:DAYLIGHT
BEGIN:STANDARD
TZOFFSETFROM:+0200
TZOFFSETTO:+0100
TZNAME:CET
DTSTART:20221030T010000
END:STANDARD
END:VTIMEZONE
BEGIN:VEVENT
DTSTART;TZID=Europe/Berlin:20210703T100000
DTEND;TZID=Europe/Berlin:20210703T120000
DTSTAMP:20260425T024328
CREATED:20210305T183210Z
LAST-MODIFIED:20210616T150225Z
UID:53516-1625306400-1625313600@alpinundoutdoor.de
SUMMARY:SUP Tour Salzach
DESCRIPTION:Iglu Abenteuer\n				\n				\n			\n				\n				\n			\n				\n				\n				\n				\n				\n				\n				\n				\n				\n				\n				\n				\n				\n				\n				\n				\n				\n				\n				\n				\n					\n				\n					\n								\n									\n										\n									\n								\n								\n							\n							Veranstaltung\n							\n						\n				\n			\n				\n			\n			\n				\n				\n				\n				\n			\n				\n				\n				\n				\n				\n				\n				\n				\n				\n				\n				SUP Tour Salzach\nFlusstäler mit urwüchsigen Auen und sanft gewellte Hügel prägen die Landschaft. Dazwischen reihen sich wie Juwelen am Inn die Klöster Gars und Au sowie die alten Handelsstädte Kraiburg\, Mühldorf und Neuötting aneinander. An der Salzach sind es das Zisterzienserkloster Raitenhaslach und die alte Herzogstadt Burghausen mit ihrer denkmalgeschützten Altstadt und der längsten Burg der Welt. \nDie Region Inn-Salzach auf einer geführten Flusswanderung im Schlauchkanadier zu zweit oder auf dem Riesen-SUP für 8 Personen zu entdecken\, ist ein einzigartiges Erlebnis. Du musst dafür keine Erfahrung mitbringen\, solltest aber schwimmen können. Mit einem erfahrenen Guide lassen sich die beiden Strecken nicht nur sportlich\, sondern auch ganz entspannt und sicher genießen. Kinder können die Touren ab 8 Jahren mitfahren. \nDetails SUP Tour auf der Salzach: \nWir paddeln gemeinsam die 12km von Tittmoning nach Burghausen. Die zumeist recht flotte Strömung hilft uns die Strecke in ca. 2-3h Stunden zu bewältigen. Es stehen SUP Boards und natürlich auch die Big SUPs für mehrere Personen zur Verfügung. Auf Wunsch und mit entsprechender Vorerfahrung kann die Tour auch per Kajak bewältigt werden. \nKosten inkl. Leihmaterial auf dem Big SUP.  Für SUP einzeln oder Kajak Kosten nach Absprache. \n			\n			\n				\n				\n				\n				\n				\n				\n				\n				\n				\n				\n					\n					\n						03.07.2021\n						Abhängig von der Witterung auch an jederzeit sonst buchbar. \n					\n				\n			\n				\n				\n				\n				\n				\n					\n					\n						Ort: Tittmoning- Burghausen\n						\n					\n				\n			\n				\n				\n				\n				\n				\n					\n					\n						Teilnehmer: max. 30\n						Mindestanzahl: 4 \n					\n				\n			\n				\n				\n				\n				\n				\n					\n					\n						Preis: ab 60€\n						Der Preis beinhaltet Ausrüstung und Leihmaterial auf dem Big SUP! \n					\n				\n			\n			\n				\n				\n				\n				\n			\n				\n				\n				\n				\n				\n				\n			\n				\n				\n				\n				\n				Buchungsanfrage\n				\n				\n				\n					\n						\n				\n				\n				\n				\n				Name\n				\n			 \n				\n				\n				\n				\n				Telefon\n				\n			 \n				\n				\n				\n				\n				E-Mail-Adresse\n				\n			 \n				\n				\n				\n				\n				Nachricht\n				\n			 \n				\n				\n				\n				\n				Datenschutz\n				\n					\n						Datenschutz\n						\n							\n							Ich akzeptiere die Datenschutzvereinbarung \n						\n					\n			 \n						\n						\n							\n			\n				\n					8 + 9 = \n				 \n			\n							Anfragen\n						\n						\n					\n				\n			\n			\n				\n				\n				\n				\n				\n				\n				\n					\n				\n			\n			\n				\n				\n				\n				\n				\n				\n				\n				\n				\n				\n				\n				\n					\n				\n				\n						 \n						\n					\n						 \n						\n					\n						 \n						\n					\n						 \n						\n					\n			\n				\n			\n			\n				\n				\n				\n				\n			\n				\n				\n			\n				\n				\n				\n				\n				\n				\n				\n				\n				\n				\n				\n				\n				\n				\n				\n				\n				\n				Noch nicht alle Fragen beantwortet? Ruf uns an oder schreib uns! \n			\n				\n				\n				\n				\n				\n					\n					\n						\n						+49 (0)179 5228690 \n					\n				\n			\n				Kontakt
URL:https://alpinundoutdoor.de/event/sup-tour-salzach-2021-07-03/
CATEGORIES:Für Gruppen,Outdoorschule,SUP
ATTACH;FMTTYPE=image/jpeg:https://alpinundoutdoor.de/wp-content/uploads/2021/03/Flusswanderungen-Inn-Salzach.jpg
END:VEVENT
BEGIN:VEVENT
DTSTART;TZID=Europe/Berlin:20210704T100000
DTEND;TZID=Europe/Berlin:20210704T140000
DTSTAMP:20260425T024328
CREATED:20210305T191225Z
LAST-MODIFIED:20210616T150240Z
UID:53528-1625392800-1625407200@alpinundoutdoor.de
SUMMARY:SUP Tour Inn
DESCRIPTION:Iglu Abenteuer\n				\n				\n			\n				\n				\n			\n				\n				\n				\n				\n				\n				\n				\n				\n				\n				\n				\n				\n				\n				\n				\n				\n				\n				\n				\n				\n					\n				\n					\n								\n									\n										\n									\n								\n								\n							\n							Veranstaltung\n							\n						\n				\n			\n				\n			\n			\n				\n				\n				\n				\n			\n				\n				\n				\n				\n				\n				\n				\n				\n				\n				\n				SUP Tour Inn\nFlusstäler mit urwüchsigen Auen und sanft gewellte Hügel prägen die Landschaft. Dazwischen reihen sich wie Juwelen am Inn die Klöster Gars und Au sowie die alten Handelsstädte Kraiburg\, Mühldorf und Neuötting aneinander. An der Salzach sind es das Zisterzienserkloster Raitenhaslach und die alte Herzogstadt Burghausen mit ihrer denkmalgeschützten Altstadt und der längsten Burg der Welt. \nDie Region Inn-Salzach auf einer geführten Flusswanderung im Schlauchkanadier zu zweit oder auf dem Riesen-SUP für 8 Personen zu entdecken\, ist ein einzigartiges Erlebnis. Du musst dafür keine Erfahrung mitbringen\, solltest aber schwimmen können. Mit einem erfahrenen Guide lassen sich die beiden Strecken nicht nur sportlich\, sondern auch ganz entspannt und sicher genießen. Kinder können die Touren ab 8 Jahren mitfahren. \nDetails zur Tour auf dem Inn:  \nWir paddeln gemeinsam die 17km von Wasserburg nach Gars. Die zumeist recht flotte Strömung hilft uns die Strecke in ca. 3-4h Stunden zu bewältigen. Es stehen SUP Boards und natürlich auch die Big SUPs für mehrere Personen zur Verfügung. Auf Wunsch und mit entsprechender Vorerfahrung kann die Tour auch per Kajak bewältigt werden. \nKosten inkl. Leihmaterial auf dem Big SUP.  Für SUP einzeln oder Kajak Kosten nach Absprache. \n			\n			\n				\n				\n				\n				\n				\n				\n				\n				\n				\n				\n					\n					\n						04.07.2021\n						Abhängig von der Witterung auch jederzeit sonst buchbar. \n					\n				\n			\n				\n				\n				\n				\n				\n					\n					\n						Ort: Wasserburg- Gars\n						\n					\n				\n			\n				\n				\n				\n				\n				\n					\n					\n						Teilnehmer: max. 30\n						Mindestanzahl: 4 \n					\n				\n			\n				\n				\n				\n				\n				\n					\n					\n						Preis: ab 75€\n						Der Preis beinhaltet Ausrüstung und Leihmaterial auf dem Big SUP! \n					\n				\n			\n			\n				\n				\n				\n				\n			\n				\n				\n				\n				\n				\n				\n			\n				\n				\n				\n				\n				Buchungsanfrage\n				\n				\n				\n					\n						\n				\n				\n				\n				\n				Name\n				\n			 \n				\n				\n				\n				\n				Telefon\n				\n			 \n				\n				\n				\n				\n				E-Mail-Adresse\n				\n			 \n				\n				\n				\n				\n				Nachricht\n				\n			 \n				\n				\n				\n				\n				Datenschutz\n				\n					\n						Datenschutz\n						\n							\n							Ich akzeptiere die Datenschutzvereinbarung \n						\n					\n			 \n						\n						\n							\n			\n				\n					8 + 8 = \n				 \n			\n							Anfragen\n						\n						\n					\n				\n			\n			\n				\n				\n				\n				\n				\n				\n				\n					\n				\n			\n			\n				\n				\n				\n				\n				\n				\n				\n				\n				\n				\n				\n				\n					\n				\n				\n						 \n						\n					\n						 \n						\n					\n						 \n						\n					\n						 \n						\n					\n			\n				\n			\n			\n				\n				\n				\n				\n			\n				\n				\n			\n				\n				\n				\n				\n				\n				\n				\n				\n				\n				\n				\n				\n				\n				\n				\n				\n				\n				Noch nicht alle Fragen beantwortet? Ruf uns an oder schreib uns! \n			\n				\n				\n				\n				\n				\n					\n					\n						\n						 +49 (0)179 5228690 \n					\n				\n			\n				Kontakt
URL:https://alpinundoutdoor.de/event/sup-tour-inn-2021-07-04/
CATEGORIES:Für Gruppen,Outdoorschule,SUP
ATTACH;FMTTYPE=image/jpeg:https://alpinundoutdoor.de/wp-content/uploads/2019/01/fb48-1.jpg
END:VEVENT
BEGIN:VEVENT
DTSTART;TZID=Europe/Berlin:20210709T100000
DTEND;TZID=Europe/Berlin:20210709T123000
DTSTAMP:20260425T024328
CREATED:20210409T090958Z
LAST-MODIFIED:20210616T150252Z
UID:53683-1625824800-1625833800@alpinundoutdoor.de
SUMMARY:Individualkurs\, Techniktraining für Kajakfahrer
DESCRIPTION:Iglu Abenteuer\n				\n				\n			\n				\n				\n			\n				\n				\n				\n				\n				\n				\n				\n				\n				\n				\n				\n				\n				\n				\n				\n				\n				\n				\n				\n				\n					\n				\n					\n								\n									\n										\n									\n								\n								\n							\n							Veranstaltung\n							\n						\n				\n			\n				\n			\n			\n				\n				\n				\n				\n			\n				\n				\n				\n				\n				\n				\n				\n				\n				\n				\n				Individualkurs\, Techniktraining für Kajakfahrer\nUnser neues Format ist zugegeben\, erst im Jahr 2020 durch die Cornonaeinschränkungen entstanden. \nWir haben aber mit unseren Kunden feststellen dürfen\, wie effektiv diese Art des Trainings wirkt. In diesen 120min intensivem Training\, kümmern wir uns ausschließlich um Deine Paddeltechnik. Wir nutzen Videos\, zur Bewegungsanalyse und zeigen Dir individuelle Übungsreihen um auch selbstständig an der gewünschten Technik\, oder am gewünschten Move arbeiten zu können. \nSelbstverständlich kannst Du in diesem Rahmen auch das passende Material dazu testen\, bzw. wir erklären Dir gerne die Möglichkeiten des jeweiligen Materials.Als Schulungsgewässer bietet sich je nach Niveau der Schliersee\, Leitzach\, Saalach\, Soca oder Loisach an. Wir kommen aber auch gerne zu Dir! \n  \n			\n			\n				\n				\n				\n				\n				\n				\n				\n				\n				\n				\n					\n					\n						09.07.2021\n						Abhängig von der Witterung auch sonst jederzeit buchbar. \n					\n				\n			\n				\n				\n				\n				\n				\n					\n					\n						Ort: Fischbachau\, Lofer\, Garmisch\n						Gerne aber auch in Deiner Nähe! \n					\n				\n			\n				\n				\n				\n				\n				\n					\n					\n						Teilnehmer: max. 1\n						Mindestanzahl: 1 \n					\n				\n			\n				\n				\n				\n				\n				\n					\n					\n						Preis: ab 100€\n						Der Preis beinhaltet Ausrüstung und Leihmaterial! \n					\n				\n			\n			\n				\n				\n				\n				\n			\n				\n				\n				\n				\n				\n				\n			\n				\n				\n				\n				\n				Buchungsanfrage\n				\n				\n				\n					\n						\n				\n				\n				\n				\n				Name\n				\n			 \n				\n				\n				\n				\n				Telefon\n				\n			 \n				\n				\n				\n				\n				E-Mail-Adresse\n				\n			 \n				\n				\n				\n				\n				Nachricht\n				\n			 \n				\n				\n				\n				\n				Datenschutz\n				\n					\n						Datenschutz\n						\n							\n							Ich akzeptiere die Datenschutzvereinbarung \n						\n					\n			 \n						\n						\n							\n			\n				\n					8 + 1 = \n				 \n			\n							Anfragen\n						\n						\n					\n				\n			\n			\n				\n				\n				\n				\n				\n				\n				\n					\n				\n			\n			\n				\n				\n				\n				\n				\n				\n				\n				\n				\n				\n				\n				\n					\n				\n				\n						 \n						\n					\n						 \n						\n					\n						 \n						\n					\n						 \n						\n					\n						 \n						\n					\n			\n				\n			\n			\n				\n				\n				\n				\n			\n				\n				\n			\n				\n				\n				\n				\n				\n				\n				\n				\n				\n				\n				\n				\n				\n				\n				\n				\n				\n				Noch nicht alle Fragen beantwortet? Ruf uns an oder schreib uns! \n			\n				\n				\n				\n				\n				\n					\n					\n						\n						 +49 (0)179 5228690 \n					\n				\n			\n				Kontakt
URL:https://alpinundoutdoor.de/event/individualkurs-techniktraining-fuer-kajakfahrer-4/
CATEGORIES:Kajak,Wildwasserkurs
ATTACH;FMTTYPE=image/jpeg:https://alpinundoutdoor.de/wp-content/uploads/2021/04/Kajakschule-Socia.jpg
END:VEVENT
END:VCALENDAR