BEGIN:VCALENDAR
VERSION:2.0
PRODID:-//Alpinundoutdoor.de - ECPv6.15.17.1//NONSGML v1.0//EN
CALSCALE:GREGORIAN
METHOD:PUBLISH
X-ORIGINAL-URL:https://alpinundoutdoor.de
X-WR-CALDESC:Veranstaltungen für Alpinundoutdoor.de
REFRESH-INTERVAL;VALUE=DURATION:PT1H
X-Robots-Tag:noindex
X-PUBLISHED-TTL:PT1H
BEGIN:VTIMEZONE
TZID:Europe/Berlin
BEGIN:DAYLIGHT
TZOFFSETFROM:+0100
TZOFFSETTO:+0200
TZNAME:CEST
DTSTART:20210328T010000
END:DAYLIGHT
BEGIN:STANDARD
TZOFFSETFROM:+0200
TZOFFSETTO:+0100
TZNAME:CET
DTSTART:20211031T010000
END:STANDARD
BEGIN:DAYLIGHT
TZOFFSETFROM:+0100
TZOFFSETTO:+0200
TZNAME:CEST
DTSTART:20220327T010000
END:DAYLIGHT
BEGIN:STANDARD
TZOFFSETFROM:+0200
TZOFFSETTO:+0100
TZNAME:CET
DTSTART:20221030T010000
END:STANDARD
BEGIN:DAYLIGHT
TZOFFSETFROM:+0100
TZOFFSETTO:+0200
TZNAME:CEST
DTSTART:20230326T010000
END:DAYLIGHT
BEGIN:STANDARD
TZOFFSETFROM:+0200
TZOFFSETTO:+0100
TZNAME:CET
DTSTART:20231029T010000
END:STANDARD
END:VTIMEZONE
BEGIN:VEVENT
DTSTART;TZID=Europe/Berlin:20220306T100000
DTEND;TZID=Europe/Berlin:20220306T150000
DTSTAMP:20260424T134601
CREATED:20211213T210027Z
LAST-MODIFIED:20211213T210031Z
UID:54518-1646560800-1646578800@alpinundoutdoor.de
SUMMARY:Iglu Abenteuer
DESCRIPTION:Iglu Abenteuer\n				\n				\n			\n				\n				\n			\n				\n				\n				\n				\n				\n				\n				\n				\n				\n				\n				\n				\n				\n				\n				\n				\n				\n				\n				\n				\n					\n				\n					\n								\n									\n										\n									\n								\n								\n							\n							Veranstaltung\n							\n						\n				\n			\n				\n			\n			\n				\n				\n				\n				\n			\n				\n				\n				\n				\n				\n				\n				\n				\n				\n				\n				Abenteuer in Schnee und Eis!\nUm eine Inuitbehausung aufzustellen\, braucht es logisches Denken\, koordiniertes Arbeiten und die Mithilfe jedes einzelnen Teilnehmers. In Teams von 8 bis 10 Personen wird unter fachkundiger Anleitung zuerst ein stabiles Fundament gesetzt. Im „Schneesteinbruch“ werden Blöcke im richtigen Durchmesser geschnitten\, angeschrägt und ringförmig aufeinandergeschichtet\, bis der letzte Block das Dach schließt. Während des Iglubaus kommen viele Fragen auf. Absprachen im Team sowie sorgfältige Vorgehensweise und immer das Ziel vor Augen sind für das Gelingen von Vorteil. Nach etwa drei Stunden ist das Iglu bezugsfertig\, und Sie können beim Richtfest auf den Erfolg anstoßen. Ein Iglubau lässt sich je nach Region mit vielen andern Aktivitäten kombinieren: mit einer Schlittenfahrt\, einer Schneeschuhtour oder Bogenschießen. Eine Fackelwanderung ins Tal hinunter könnte Ihren Tag abrunden. \n			\n			\n				\n				\n				\n				\n				\n				\n				\n				\n				\n				\n					\n					\n						November - März\n						Abhängig von der Witterung in diesem Zeitraum jederzeit buchbar. \n					\n				\n			\n				\n				\n				\n				\n				\n					\n					\n						Ort: Sudelfeld\n						Je nach Schneelage\, kommen wir auch gerne zu Euch! \n					\n				\n			\n				\n				\n				\n				\n				\n					\n					\n						Teilnehmer: max. 12\n						Mindestanzahl: 3 \n					\n				\n			\n				\n				\n				\n				\n				\n					\n					\n						Preis: ab 49€\n						Der Preis beinhaltet Ausrüstung und Leihmaterial! \n					\n				\n			\n			\n				\n				\n				\n				\n			\n				\n				\n				\n				\n				\n				\n			\n				\n				\n				\n				\n				Buchungsanfrage\n				\n				\n				\n					\n						\n				\n				\n				\n				\n				Name\n				\n			 \n				\n				\n				\n				\n				Telefon\n				\n			 \n				\n				\n				\n				\n				E-Mail-Adresse\n				\n			 \n				\n				\n				\n				\n				Nachricht\n				\n			 \n				\n				\n				\n				\n				Datenschutz\n				\n					\n						Datenschutz\n						\n							\n							Ich akzeptiere die Datenschutzvereinbarung \n						\n					\n			 \n						\n						\n							\n			\n				\n					13 + 13 = \n				 \n			\n							Anfragen\n						\n						\n					\n				\n			\n			\n				\n				\n				\n				\n				\n				\n				\n					\n				\n			\n			\n				\n				\n				\n				\n				\n				\n				\n				\n				\n				\n				\n				\n					\n				\n				\n						 \n						\n					\n						 \n						\n					\n						 \n						\n					\n			\n				\n			\n			\n				\n				\n				\n				\n			\n				\n				\n			\n				\n				\n				\n				\n				\n				\n				\n				\n				\n				\n				\n				\n				\n				\n				\n				\n				\n				Noch nicht alle Fragen beantwortet? Ruf uns an oder schreib uns! \n			\n				\n				\n				\n				\n				\n					\n					\n						\n						 +49 (0)179 5228690 \n					\n				\n			\n				Kontakt
URL:https://alpinundoutdoor.de/event/iglu-abenteuer-3/
LOCATION:Sudelfeld
CATEGORIES:Für Gruppen,Outdoorschule
ATTACH;FMTTYPE=image/jpeg:https://alpinundoutdoor.de/wp-content/uploads/2021/10/IMG_20200131_124524_61-scaled.jpg
END:VEVENT
BEGIN:VEVENT
DTSTART;TZID=Europe/Berlin:20220319T100000
DTEND;TZID=Europe/Berlin:20220319T120000
DTSTAMP:20260424T134602
CREATED:20211007T145831Z
LAST-MODIFIED:20211007T145834Z
UID:54424-1647684000-1647691200@alpinundoutdoor.de
SUMMARY:SUP Tour Salzach
DESCRIPTION:Iglu Abenteuer\n				\n				\n			\n				\n				\n			\n				\n				\n				\n				\n				\n				\n				\n				\n				\n				\n				\n				\n				\n				\n				\n				\n				\n				\n				\n				\n					\n				\n					\n								\n									\n										\n									\n								\n								\n							\n							Veranstaltung\n							\n						\n				\n			\n				\n			\n			\n				\n				\n				\n				\n			\n				\n				\n				\n				\n				\n				\n				\n				\n				\n				\n				SUP Tour Salzach\nFlusstäler mit urwüchsigen Auen und sanft gewellte Hügel prägen die Landschaft. Dazwischen reihen sich wie Juwelen am Inn die Klöster Gars und Au sowie die alten Handelsstädte Kraiburg\, Mühldorf und Neuötting aneinander. An der Salzach sind es das Zisterzienserkloster Raitenhaslach und die alte Herzogstadt Burghausen mit ihrer denkmalgeschützten Altstadt und der längsten Burg der Welt. \nDie Region Inn-Salzach auf einer geführten Flusswanderung im Schlauchkanadier zu zweit oder auf dem Riesen-SUP für 8 Personen zu entdecken\, ist ein einzigartiges Erlebnis. Du musst dafür keine Erfahrung mitbringen\, solltest aber schwimmen können. Mit einem erfahrenen Guide lassen sich die beiden Strecken nicht nur sportlich\, sondern auch ganz entspannt und sicher genießen. Kinder können die Touren ab 8 Jahren mitfahren. \nDetails SUP Tour auf der Salzach: \nWir paddeln gemeinsam die 12km von Tittmoning nach Burghausen. Die zumeist recht flotte Strömung hilft uns die Strecke in ca. 2-3h Stunden zu bewältigen. Es stehen SUP Boards und natürlich auch die Big SUPs für mehrere Personen zur Verfügung. Auf Wunsch und mit entsprechender Vorerfahrung kann die Tour auch per Kajak bewältigt werden. \nKosten inkl. Leihmaterial auf dem Big SUP.  Für SUP einzeln oder Kajak Kosten nach Absprache. \n			\n			\n				\n				\n				\n				\n				\n				\n				\n				\n				\n				\n					\n					\n						02.10.2021\n						Abhängig von der Witterung auch sonst jederzeit buchbar. \n					\n				\n			\n				\n				\n				\n				\n				\n					\n					\n						Ort: Tittmoning- Burghausen\n						\n					\n				\n			\n				\n				\n				\n				\n				\n					\n					\n						Teilnehmer: max. 30\n						Mindestanzahl: 4 \n					\n				\n			\n				\n				\n				\n				\n				\n					\n					\n						Preis: ab 60€\n						Der Preis beinhaltet Ausrüstung und Leihmaterial auf dem Big SUP! \n					\n				\n			\n			\n				\n				\n				\n				\n			\n				\n				\n				\n				\n				\n				\n			\n				\n				\n				\n				\n				Buchungsanfrage\n				\n				\n				\n					\n						\n				\n				\n				\n				\n				Name\n				\n			 \n				\n				\n				\n				\n				Telefon\n				\n			 \n				\n				\n				\n				\n				E-Mail-Adresse\n				\n			 \n				\n				\n				\n				\n				Nachricht\n				\n			 \n				\n				\n				\n				\n				Datenschutz\n				\n					\n						Datenschutz\n						\n							\n							Ich akzeptiere die Datenschutzvereinbarung \n						\n					\n			 \n						\n						\n							\n			\n				\n					15 + 9 = \n				 \n			\n							Anfragen\n						\n						\n					\n				\n			\n			\n				\n				\n				\n				\n				\n				\n				\n					\n				\n			\n			\n				\n				\n				\n				\n				\n				\n				\n				\n				\n				\n				\n				\n					\n				\n				\n						 \n						\n					\n						 \n						\n					\n						 \n						\n					\n						 \n						\n					\n			\n				\n			\n			\n				\n				\n				\n				\n			\n				\n				\n			\n				\n				\n				\n				\n				\n				\n				\n				\n				\n				\n				\n				\n				\n				\n				\n				\n				\n				Noch nicht alle Fragen beantwortet? Ruf uns an oder schreib uns! \n			\n				\n				\n				\n				\n				\n					\n					\n						\n						 +49 (0)179 5228690 \n					\n				\n			\n				Kontakt
URL:https://alpinundoutdoor.de/event/sup-tour-salzach/
CATEGORIES:Für Gruppen,Outdoorschule,SUP
ATTACH;FMTTYPE=image/jpeg:https://alpinundoutdoor.de/wp-content/uploads/2019/02/Flusswanderungen-Inn-Salzach_32.jpg
END:VEVENT
BEGIN:VEVENT
DTSTART;TZID=Europe/Berlin:20220320T100000
DTEND;TZID=Europe/Berlin:20220320T150000
DTSTAMP:20260424T134602
CREATED:20211007T100733Z
LAST-MODIFIED:20211007T130300Z
UID:54371-1647770400-1647788400@alpinundoutdoor.de
SUMMARY:Big SUP Tour Inn
DESCRIPTION:Iglu Abenteuer\n				\n				\n			\n				\n				\n			\n				\n				\n				\n				\n				\n				\n				\n				\n				\n				\n				\n				\n				\n				\n				\n				\n				\n				\n				\n				\n					\n				\n					\n								\n									\n										\n									\n								\n								\n							\n							Veranstaltung\n							\n						\n				\n			\n				\n			\n			\n				\n				\n				\n				\n			\n				\n				\n				\n				\n				\n				\n				\n				\n				\n				\n				SUP Tour Inn\nFlusstäler mit urwüchsigen Auen und sanft gewellte Hügel prägen die Landschaft. Dazwischen reihen sich wie Juwelen am Inn die Klöster Gars und Au sowie die alten Handelsstädte Kraiburg\, Mühldorf und Neuötting aneinander. An der Salzach sind es das Zisterzienserkloster Raitenhaslach und die alte Herzogstadt Burghausen mit ihrer denkmalgeschützten Altstadt und der längsten Burg der Welt. \nDie Region Inn-Salzach auf einer geführten Flusswanderung auf dem Riesen-SUP für 8 Personen zu entdecken\, ist ein einzigartiges Erlebnis. Du musst dafür keine Erfahrung mitbringen\, solltest aber schwimmen können. Mit einem erfahrenen Guide lassen sich die beiden Strecken nicht nur sportlich\, sondern auch ganz entspannt und sicher genießen. Kinder können die Touren ab 8 Jahren mitfahren. \nDetails zur Tour auf dem Inn:  \nWir paddeln gemeinsam die 17km von Wasserburg nach Gars. Die zumeist recht flotte Strömung hilft uns die Strecke in ca. 3-4h Stunden zu bewältigen. Es stehen SUP Boards und natürlich auch die Big SUPs für mehrere Personen zur Verfügung. Auf Wunsch und mit entsprechender Vorerfahrung kann die Tour auch per Kajak bewältigt werden. \nKosten inkl. Leihmaterial auf dem Big SUP.  Für SUP einzeln oder Kajak Kosten nach Absprache. \n			\n			\n				\n				\n				\n				\n				\n				\n				\n				\n				\n				\n					\n					\n						20.03.2022\n						Abhängig von der Witterung auch sonst jederzeit buchbar. \n					\n				\n			\n				\n				\n				\n				\n				\n					\n					\n						Ort: Wasserburg- Gars\n						\n					\n				\n			\n				\n				\n				\n				\n				\n					\n					\n						Teilnehmer: max. 30\n						Mindestanzahl: 4 \n					\n				\n			\n				\n				\n				\n				\n				\n					\n					\n						Preis: ab 75€\n						Der Preis beinhaltet Ausrüstung und Leihmaterial auf dem Big SUP! \n					\n				\n			\n			\n				\n				\n				\n				\n			\n				\n				\n				\n				\n				\n				\n			\n				\n				\n				\n				\n				Buchungsanfrage\n				\n				\n				\n					\n						\n				\n				\n				\n				\n				Name\n				\n			 \n				\n				\n				\n				\n				Telefon\n				\n			 \n				\n				\n				\n				\n				E-Mail-Adresse\n				\n			 \n				\n				\n				\n				\n				Nachricht\n				\n			 \n				\n				\n				\n				\n				Datenschutz\n				\n					\n						Datenschutz\n						\n							\n							Ich akzeptiere die Datenschutzvereinbarung \n						\n					\n			 \n						\n						\n							\n			\n				\n					12 + 10 = \n				 \n			\n							Anfragen\n						\n						\n					\n				\n			\n			\n				\n				\n				\n				\n				\n				\n				\n					\n				\n			\n			\n				\n				\n				\n				\n				\n				\n				\n				\n				\n				\n				\n				\n					\n				\n				\n						 \n						\n					\n						 \n						\n					\n						 \n						\n					\n						 \n						\n					\n			\n				\n			\n			\n				\n				\n				\n				\n			\n				\n				\n			\n				\n				\n				\n				\n				\n				\n				\n				\n				\n				\n				\n				\n				\n				\n				\n				\n				\n				Noch nicht alle Fragen beantwortet? Ruf uns an oder schreib uns! \n			\n				\n				\n				\n				\n				\n					\n					\n						\n						 +49 (0)179 5228690 \n					\n				\n			\n				Kontakt
URL:https://alpinundoutdoor.de/event/big-sup-tour-inn-2/
CATEGORIES:Für Gruppen,Outdoorschule,SUP
ATTACH;FMTTYPE=image/jpeg:https://alpinundoutdoor.de/wp-content/uploads/2019/01/fb48-1.jpg
END:VEVENT
END:VCALENDAR